BEGIN:VCALENDAR
VERSION:2.0
PRODID:-//wp-events-plugin.com//7.2.3.1//EN
BEGIN:VEVENT
UID:142@gimnasioingles.edu.co
DTSTART;TZID=America/Bogota;VALUE=DATE:20250203
DTEND;TZID=America/Bogota;VALUE=DATE:20250208
DTSTAMP:20250116T131829Z
URL:https://www.gimnasioingles.edu.co/events/visit-to-bogota-our-capital-c
 ity-6th-grade-visita-a-bogota-nuestra-capital-6to-grado/
SUMMARY:Visit to Bogotá\, our capital city - 6th grade / Visita a Bogotá\
 , nuestra capital - 6to grado
DESCRIPTION:
CATEGORIES:Elementary
END:VEVENT
BEGIN:VTIMEZONE
TZID:America/Bogota
X-LIC-LOCATION:America/Bogota
BEGIN:STANDARD
DTSTART:20240204T000000
TZOFFSETFROM:-0500
TZOFFSETTO:-0500
TZNAME:-05
END:STANDARD
END:VTIMEZONE
END:VCALENDAR