BEGIN:VCALENDAR
VERSION:2.0
PRODID:-//wp-events-plugin.com//7.2.3.1//EN
BEGIN:VEVENT
UID:55@gimnasioingles.edu.co
DTSTART;TZID=America/Bogota;VALUE=DATE:20241214
DTEND;TZID=America/Bogota;VALUE=DATE:20250114
DTSTAMP:20240903T152327Z
URL:https://www.gimnasioingles.edu.co/events/vacation-vacaciones/
SUMMARY:Vacation / Vacaciones
DESCRIPTION:
CATEGORIES:Holidays and days off
END:VEVENT
BEGIN:VTIMEZONE
TZID:America/Bogota
X-LIC-LOCATION:America/Bogota
BEGIN:STANDARD
DTSTART:20231215T000000
TZOFFSETFROM:-0500
TZOFFSETTO:-0500
TZNAME:-05
END:STANDARD
END:VTIMEZONE
END:VCALENDAR