BEGIN:VCALENDAR
VERSION:2.0
PRODID:-//wp-events-plugin.com//7.2.3.1//EN
BEGIN:VEVENT
UID:130@gimnasioingles.edu.co
DTSTART;TZID=America/Bogota:20241212T153000
DTEND;TZID=America/Bogota:20241212T173000
DTSTAMP:20241119T144113Z
URL:https://www.gimnasioingles.edu.co/events/ultimo-dia-de-extracurricular
 es-last-day-of-extracurriculars/
SUMMARY:Last day of extracurriculars / Último día de extracurriculares
DESCRIPTION:
CATEGORIES:General
END:VEVENT
BEGIN:VTIMEZONE
TZID:America/Bogota
X-LIC-LOCATION:America/Bogota
BEGIN:STANDARD
DTSTART:20231213T153000
TZOFFSETFROM:-0500
TZOFFSETTO:-0500
TZNAME:-05
END:STANDARD
END:VTIMEZONE
END:VCALENDAR