BEGIN:VCALENDAR
VERSION:2.0
PRODID:-//wp-events-plugin.com//7.2.3.1//EN
BEGIN:VEVENT
UID:123@gimnasioingles.edu.co
DTSTART;TZID=America/Bogota;VALUE=DATE:20241125
DTEND;TZID=America/Bogota;VALUE=DATE:20241126
DTSTAMP:20241016T174736Z
URL:https://www.gimnasioingles.edu.co/events/the-magic-of-christmas-social
 -responsibility-campaign-begins-comienza-la-magia-de-la-navidad-campana-de
 -responsabilidad-social/
SUMMARY:THE MAGIC OF CHRISTMAS social responsibility campaign begins / Comi
 enza LA MAGIA DE LA NAVIDAD campaña de responsabilidad social
DESCRIPTION:
CATEGORIES:General
END:VEVENT
BEGIN:VTIMEZONE
TZID:America/Bogota
X-LIC-LOCATION:America/Bogota
BEGIN:STANDARD
DTSTART:20231126T000000
TZOFFSETFROM:-0500
TZOFFSETTO:-0500
TZNAME:-05
END:STANDARD
END:VTIMEZONE
END:VCALENDAR