BEGIN:VCALENDAR
VERSION:2.0
PRODID:-//wp-events-plugin.com//7.2.3.1//EN
BEGIN:VEVENT
UID:25@gimnasioingles.edu.co
DTSTART;TZID=America/Bogota;VALUE=DATE:20241129
DTEND;TZID=America/Bogota;VALUE=DATE:20241130
DTSTAMP:20240902T211527Z
URL:https://www.gimnasioingles.edu.co/events/thanks-giving-day-dia-de-acci
 on-de-gracias-dia-festivo-del-colegio/
SUMMARY:Thanksgiving Day / Día de acción de gracias (festivo)
DESCRIPTION:
CATEGORIES:Holidays and days off
END:VEVENT
BEGIN:VTIMEZONE
TZID:America/Bogota
X-LIC-LOCATION:America/Bogota
BEGIN:STANDARD
DTSTART:20231130T000000
TZOFFSETFROM:-0500
TZOFFSETTO:-0500
TZNAME:-05
END:STANDARD
END:VTIMEZONE
END:VCALENDAR