BEGIN:VCALENDAR
VERSION:2.0
PRODID:-//wp-events-plugin.com//7.2.3.1//EN
BEGIN:VEVENT
UID:134@gimnasioingles.edu.co
DTSTART;TZID=America/Bogota:20250205T080000
DTEND;TZID=America/Bogota:20250205T110000
DTSTAMP:20250116T130421Z
URL:https://www.gimnasioingles.edu.co/events/summer-camp-padres-5th-7th-ca
 mpamento-de-verano-padres-5o-7o/
SUMMARY:Summer Camp padres 5th - 7th / Campamento de verano padres 5º - 7
 º
DESCRIPTION:
CATEGORIES:Elementary,Secondary
END:VEVENT
BEGIN:VTIMEZONE
TZID:America/Bogota
X-LIC-LOCATION:America/Bogota
BEGIN:STANDARD
DTSTART:20240206T080000
TZOFFSETFROM:-0500
TZOFFSETTO:-0500
TZNAME:-05
END:STANDARD
END:VTIMEZONE
END:VCALENDAR