BEGIN:VCALENDAR
VERSION:2.0
PRODID:-//wp-events-plugin.com//7.2.3.1//EN
BEGIN:VEVENT
UID:27@gimnasioingles.edu.co
DTSTART;TZID=America/Bogota:20250114T071500
DTEND;TZID=America/Bogota:20250114T143000
DTSTAMP:20240903T201555Z
URL:https://www.gimnasioingles.edu.co/events/students-return-to-school-reg
 reso-a-clases-de-todas-las-secciones/
SUMMARY:Students return to school / Los estudiantes regresan al colegio
DESCRIPTION:
CATEGORIES:General
END:VEVENT
BEGIN:VTIMEZONE
TZID:America/Bogota
X-LIC-LOCATION:America/Bogota
BEGIN:STANDARD
DTSTART:20240115T071500
TZOFFSETFROM:-0500
TZOFFSETTO:-0500
TZNAME:-05
END:STANDARD
END:VTIMEZONE
END:VCALENDAR