BEGIN:VCALENDAR
VERSION:2.0
PRODID:-//wp-events-plugin.com//7.2.3.1//EN
BEGIN:VEVENT
UID:70@gimnasioingles.edu.co
DTSTART;TZID=America/Bogota;VALUE=DATE:20240911
DTEND;TZID=America/Bogota;VALUE=DATE:20240912
DTSTAMP:20240902T204049Z
URL:https://www.gimnasioingles.edu.co/events/school-elections-elecciones-e
 scolares-2/
SUMMARY:School elections / Elecciones escolares
DESCRIPTION:
CATEGORIES:General
END:VEVENT
BEGIN:VTIMEZONE
TZID:America/Bogota
X-LIC-LOCATION:America/Bogota
BEGIN:STANDARD
DTSTART:20230912T000000
TZOFFSETFROM:-0500
TZOFFSETTO:-0500
TZNAME:-05
END:STANDARD
END:VTIMEZONE
END:VCALENDAR