BEGIN:VCALENDAR
VERSION:2.0
PRODID:-//wp-events-plugin.com//7.2.3.1//EN
BEGIN:VEVENT
UID:47@gimnasioingles.edu.co
DTSTART;TZID=America/Bogota;VALUE=DATE:20240905
DTEND;TZID=America/Bogota;VALUE=DATE:20240907
DTSTAMP:20240902T204104Z
URL:https://www.gimnasioingles.edu.co/events/salida-arte-grados-11-12/
SUMMARY:Art Field Trip - Grades 11-12 / Salida de arte grados 11-12
DESCRIPTION:
CATEGORIES:Secondary
END:VEVENT
BEGIN:VTIMEZONE
TZID:America/Bogota
X-LIC-LOCATION:America/Bogota
BEGIN:STANDARD
DTSTART:20230906T000000
TZOFFSETFROM:-0500
TZOFFSETTO:-0500
TZNAME:-05
END:STANDARD
END:VTIMEZONE
END:VCALENDAR