BEGIN:VCALENDAR
VERSION:2.0
PRODID:-//wp-events-plugin.com//7.2.3.1//EN
BEGIN:VEVENT
UID:97@gimnasioingles.edu.co
DTSTART;TZID=America/Bogota;VALUE=DATE:20241018
DTEND;TZID=America/Bogota;VALUE=DATE:20241021
DTSTAMP:20240926T174203Z
URL:https://www.gimnasioingles.edu.co/events/regional-volleyball-and-socce
 r-tournament-at-the-liceo-ingles-of-pereira/
SUMMARY:Regional Volleyball and Soccer Tournament at the Liceo Inglés of P
 ereira / Torneo Regional de Voleibol y Fútbol en el Liceo Inglés de Pere
 ira
DESCRIPTION:
CATEGORIES:Sports
END:VEVENT
BEGIN:VTIMEZONE
TZID:America/Bogota
X-LIC-LOCATION:America/Bogota
BEGIN:STANDARD
DTSTART:20231019T000000
TZOFFSETFROM:-0500
TZOFFSETTO:-0500
TZNAME:-05
END:STANDARD
END:VTIMEZONE
END:VCALENDAR