BEGIN:VCALENDAR
VERSION:2.0
PRODID:-//wp-events-plugin.com//7.2.3.1//EN
BEGIN:VEVENT
UID:122@gimnasioingles.edu.co
DTSTART;TZID=America/Bogota:20241128T073000
DTEND;TZID=America/Bogota:20241128T093000
DTSTAMP:20241016T174108Z
URL:https://www.gimnasioingles.edu.co/events/parents-conversation-grade-9t
 h-conversatorio-padres-grado-9/
SUMMARY:Parents conversation grade 9th / Conversatorio padres grado 9
DESCRIPTION:
CATEGORIES:Secondary
END:VEVENT
BEGIN:VTIMEZONE
TZID:America/Bogota
X-LIC-LOCATION:America/Bogota
BEGIN:STANDARD
DTSTART:20231129T073000
TZOFFSETFROM:-0500
TZOFFSETTO:-0500
TZNAME:-05
END:STANDARD
END:VTIMEZONE
END:VCALENDAR