BEGIN:VCALENDAR
VERSION:2.0
PRODID:-//wp-events-plugin.com//7.2.3.1//EN
BEGIN:VEVENT
UID:120@gimnasioingles.edu.co
DTSTART;TZID=America/Bogota:20241126T073000
DTEND;TZID=America/Bogota:20241126T093000
DTSTAMP:20241016T173902Z
URL:https://www.gimnasioingles.edu.co/events/parents-conversation-grade-7t
 h-conversatorio-padres-grado-7/
SUMMARY:Parents conversation grade 7th / Conversatorio padres grado 7
DESCRIPTION:
CATEGORIES:Secondary
END:VEVENT
BEGIN:VTIMEZONE
TZID:America/Bogota
X-LIC-LOCATION:America/Bogota
BEGIN:STANDARD
DTSTART:20231127T073000
TZOFFSETFROM:-0500
TZOFFSETTO:-0500
TZNAME:-05
END:STANDARD
END:VTIMEZONE
END:VCALENDAR