BEGIN:VCALENDAR
VERSION:2.0
PRODID:-//wp-events-plugin.com//7.2.3.1//EN
BEGIN:VEVENT
UID:114@gimnasioingles.edu.co
DTSTART;TZID=America/Bogota:20241121T073000
DTEND;TZID=America/Bogota:20241121T093000
DTSTAMP:20241015T210120Z
URL:https://www.gimnasioingles.edu.co/events/parents-conversation-grade-6t
 h-conversatorio-padres-grado-6/
SUMMARY:Parents conversation grade 6th / Conversatorio padres grado 6
DESCRIPTION:
CATEGORIES:Elementary
END:VEVENT
BEGIN:VTIMEZONE
TZID:America/Bogota
X-LIC-LOCATION:America/Bogota
BEGIN:STANDARD
DTSTART:20231122T073000
TZOFFSETFROM:-0500
TZOFFSETTO:-0500
TZNAME:-05
END:STANDARD
END:VTIMEZONE
END:VCALENDAR