BEGIN:VCALENDAR
VERSION:2.0
PRODID:-//wp-events-plugin.com//7.2.3.1//EN
BEGIN:VEVENT
UID:113@gimnasioingles.edu.co
DTSTART;TZID=America/Bogota:20241125T073000
DTEND;TZID=America/Bogota:20241125T093000
DTSTAMP:20241119T140715Z
URL:https://www.gimnasioingles.edu.co/events/parents-conversation-grade-5t
 h-conversatorio-padres-grado-5/
SUMMARY:Parents conversation grade 5th / Conversatorio padres grado 5
DESCRIPTION:
CATEGORIES:Elementary
END:VEVENT
BEGIN:VTIMEZONE
TZID:America/Bogota
X-LIC-LOCATION:America/Bogota
BEGIN:STANDARD
DTSTART:20231126T073000
TZOFFSETFROM:-0500
TZOFFSETTO:-0500
TZNAME:-05
END:STANDARD
END:VTIMEZONE
END:VCALENDAR