BEGIN:VCALENDAR
VERSION:2.0
PRODID:-//wp-events-plugin.com//7.2.3.1//EN
BEGIN:VEVENT
UID:112@gimnasioingles.edu.co
DTSTART;TZID=America/Bogota:20241118T073000
DTEND;TZID=America/Bogota:20241118T093000
DTSTAMP:20241015T205959Z
URL:https://www.gimnasioingles.edu.co/events/parents-conversation-grade-4t
 h-conversatorio-padres-grado-4/
SUMMARY:Parents conversation grade 4th / Conversatorio padres grado 4
DESCRIPTION:
CATEGORIES:Elementary
END:VEVENT
BEGIN:VTIMEZONE
TZID:America/Bogota
X-LIC-LOCATION:America/Bogota
BEGIN:STANDARD
DTSTART:20231119T073000
TZOFFSETFROM:-0500
TZOFFSETTO:-0500
TZNAME:-05
END:STANDARD
END:VTIMEZONE
END:VCALENDAR