BEGIN:VCALENDAR
VERSION:2.0
PRODID:-//wp-events-plugin.com//7.2.3.1//EN
BEGIN:VEVENT
UID:111@gimnasioingles.edu.co
DTSTART;TZID=America/Bogota:20241114T073000
DTEND;TZID=America/Bogota:20241114T093000
DTSTAMP:20241015T205048Z
URL:https://www.gimnasioingles.edu.co/events/parents-conversation-grade-3r
 d-conversatorio-padres-grado-3/
SUMMARY:Parents conversation grade 3rd / Conversatorio padres grado 3
DESCRIPTION:
CATEGORIES:Elementary
END:VEVENT
BEGIN:VTIMEZONE
TZID:America/Bogota
X-LIC-LOCATION:America/Bogota
BEGIN:STANDARD
DTSTART:20231115T073000
TZOFFSETFROM:-0500
TZOFFSETTO:-0500
TZNAME:-05
END:STANDARD
END:VTIMEZONE
END:VCALENDAR