BEGIN:VCALENDAR
VERSION:2.0
PRODID:-//wp-events-plugin.com//7.2.3.1//EN
BEGIN:VEVENT
UID:109@gimnasioingles.edu.co
DTSTART;TZID=America/Bogota:20241112T073000
DTEND;TZID=America/Bogota:20241112T093000
DTSTAMP:20241015T204526Z
URL:https://www.gimnasioingles.edu.co/events/parents-conversation-grade-1s
 t-conversatorio-padres-grado-1/
SUMMARY:Parents conversation grade 1st / Conversatorio padres grado 1
DESCRIPTION:
CATEGORIES:Elementary
END:VEVENT
BEGIN:VTIMEZONE
TZID:America/Bogota
X-LIC-LOCATION:America/Bogota
BEGIN:STANDARD
DTSTART:20231113T073000
TZOFFSETFROM:-0500
TZOFFSETTO:-0500
TZNAME:-05
END:STANDARD
END:VTIMEZONE
END:VCALENDAR