BEGIN:VCALENDAR
VERSION:2.0
PRODID:-//wp-events-plugin.com//7.2.3.1//EN
BEGIN:VEVENT
UID:127@gimnasioingles.edu.co
DTSTART;TZID=America/Bogota:20241203T073000
DTEND;TZID=America/Bogota:20241203T093000
DTSTAMP:20241119T142446Z
URL:https://www.gimnasioingles.edu.co/events/k5-parent-workshop-taller-de-
 padres-de-k5/
SUMMARY:K5 parent workshop/ Taller de padres de K5
DESCRIPTION:
CATEGORIES:Preschool
END:VEVENT
BEGIN:VTIMEZONE
TZID:America/Bogota
X-LIC-LOCATION:America/Bogota
BEGIN:STANDARD
DTSTART:20231204T073000
TZOFFSETFROM:-0500
TZOFFSETTO:-0500
TZNAME:-05
END:STANDARD
END:VTIMEZONE
END:VCALENDAR