BEGIN:VCALENDAR
VERSION:2.0
PRODID:-//wp-events-plugin.com//7.2.3.1//EN
BEGIN:VEVENT
UID:118@gimnasioingles.edu.co
DTSTART;TZID=America/Bogota:20241120T073000
DTEND;TZID=America/Bogota:20241120T093000
DTSTAMP:20241016T173406Z
URL:https://www.gimnasioingles.edu.co/events/k3-parent-workshop-taller-de-
 padres-de-k3/
SUMMARY:K3 parent workshop/ Taller de padres de K3
DESCRIPTION:
CATEGORIES:Preschool
END:VEVENT
BEGIN:VTIMEZONE
TZID:America/Bogota
X-LIC-LOCATION:America/Bogota
BEGIN:STANDARD
DTSTART:20231121T073000
TZOFFSETFROM:-0500
TZOFFSETTO:-0500
TZNAME:-05
END:STANDARD
END:VTIMEZONE
END:VCALENDAR