BEGIN:VCALENDAR
VERSION:2.0
PRODID:-//wp-events-plugin.com//7.2.3.1//EN
BEGIN:VEVENT
UID:152@gimnasioingles.edu.co
DTSTART;TZID=America/Bogota:20250218T074500
DTEND;TZID=America/Bogota:20250218T093000
DTSTAMP:20250116T135259Z
URL:https://www.gimnasioingles.edu.co/events/k2-parent-workshop-taller-de-
 padres-k2/
SUMMARY:K2 Parent Workshop / Taller de padres K2
DESCRIPTION:
CATEGORIES:Preschool
END:VEVENT
BEGIN:VTIMEZONE
TZID:America/Bogota
X-LIC-LOCATION:America/Bogota
BEGIN:STANDARD
DTSTART:20240219T074500
TZOFFSETFROM:-0500
TZOFFSETTO:-0500
TZNAME:-05
END:STANDARD
END:VTIMEZONE
END:VCALENDAR