BEGIN:VCALENDAR
VERSION:2.0
PRODID:-//wp-events-plugin.com//7.2.3.1//EN
BEGIN:VEVENT
UID:91@gimnasioingles.edu.co
DTSTART;TZID=America/Bogota:20241030T020000
DTEND;TZID=America/Bogota:20241030T033000
DTSTAMP:20240906T204455Z
URL:https://www.gimnasioingles.edu.co/events/growth-hour-9/
SUMMARY:Growth Hour
DESCRIPTION:
CATEGORIES:Grow Hour
END:VEVENT
BEGIN:VTIMEZONE
TZID:America/Bogota
X-LIC-LOCATION:America/Bogota
BEGIN:STANDARD
DTSTART:20231031T020000
TZOFFSETFROM:-0500
TZOFFSETTO:-0500
TZNAME:-05
END:STANDARD
END:VTIMEZONE
END:VCALENDAR