BEGIN:VCALENDAR
VERSION:2.0
PRODID:-//wp-events-plugin.com//7.2.3.1//EN
BEGIN:VEVENT
UID:135@gimnasioingles.edu.co
DTSTART;TZID=America/Bogota:20250122T020000
DTEND;TZID=America/Bogota:20250122T033000
DTSTAMP:20250116T130632Z
URL:https://www.gimnasioingles.edu.co/events/growth-hour-13/
SUMMARY:Growth Hour
DESCRIPTION:
CATEGORIES:Grow Hour
END:VEVENT
BEGIN:VTIMEZONE
TZID:America/Bogota
X-LIC-LOCATION:America/Bogota
BEGIN:STANDARD
DTSTART:20240123T020000
TZOFFSETFROM:-0500
TZOFFSETTO:-0500
TZNAME:-05
END:STANDARD
END:VTIMEZONE
END:VCALENDAR