BEGIN:VCALENDAR
VERSION:2.0
PRODID:-//wp-events-plugin.com//7.2.3.1//EN
BEGIN:VEVENT
UID:115@gimnasioingles.edu.co
DTSTART;TZID=America/Bogota:20241108T080000
DTEND;TZID=America/Bogota:20241108T120000
DTSTAMP:20241016T170851Z
URL:https://www.gimnasioingles.edu.co/events/field-trip-grades-2nd-3rd-sal
 ida-pedagogica-grados-2-y-3/
SUMMARY:Field Trip grades 2nd &amp\; 3rd / Salida pedagógica grados 2 y 3
DESCRIPTION:
CATEGORIES:Elementary
END:VEVENT
BEGIN:VTIMEZONE
TZID:America/Bogota
X-LIC-LOCATION:America/Bogota
BEGIN:STANDARD
DTSTART:20231109T080000
TZOFFSETFROM:-0500
TZOFFSETTO:-0500
TZNAME:-05
END:STANDARD
END:VTIMEZONE
END:VCALENDAR