BEGIN:VCALENDAR
VERSION:2.0
PRODID:-//wp-events-plugin.com//7.2.3.1//EN
BEGIN:VEVENT
UID:132@gimnasioingles.edu.co
DTSTART;TZID=America/Bogota:20241207T000000
DTEND;TZID=America/Bogota:20241207T000000
DTSTAMP:20241119T144307Z
URL:https://www.gimnasioingles.edu.co/events/family-christmas-day-dia-de-n
 avidad-en-familia/
SUMMARY:Family Christmas Day / Día de Navidad en familia
DESCRIPTION:
CATEGORIES:General
END:VEVENT
BEGIN:VTIMEZONE
TZID:America/Bogota
X-LIC-LOCATION:America/Bogota
BEGIN:STANDARD
DTSTART:20231208T000000
TZOFFSETFROM:-0500
TZOFFSETTO:-0500
TZNAME:-05
END:STANDARD
END:VTIMEZONE
END:VCALENDAR