BEGIN:VCALENDAR
VERSION:2.0
PRODID:-//wp-events-plugin.com//7.2.3.1//EN
BEGIN:VEVENT
UID:144@gimnasioingles.edu.co
DTSTART;TZID=America/Bogota;VALUE=DATE:20250208
DTEND;TZID=America/Bogota;VALUE=DATE:20250209
DTSTAMP:20250116T134804Z
URL:https://www.gimnasioingles.edu.co/events/elementary-accas-festival-lic
 eo-frances-festival-accas-primaria-liceo-frances/
SUMMARY:Elementary ACCAS Festival Liceo Frances / Festival ACCAS Primaria L
 iceo Francés
DESCRIPTION:
CATEGORIES:Sports
END:VEVENT
BEGIN:VTIMEZONE
TZID:America/Bogota
X-LIC-LOCATION:America/Bogota
BEGIN:STANDARD
DTSTART:20240209T000000
TZOFFSETFROM:-0500
TZOFFSETTO:-0500
TZNAME:-05
END:STANDARD
END:VTIMEZONE
END:VCALENDAR