BEGIN:VCALENDAR
VERSION:2.0
PRODID:-//wp-events-plugin.com//7.2.3.1//EN
BEGIN:VEVENT
UID:101@gimnasioingles.edu.co
DTSTART;TZID=America/Bogota:20241019T080000
DTEND;TZID=America/Bogota:20241019T123000
DTSTAMP:20240926T174950Z
URL:https://www.gimnasioingles.edu.co/events/educational-field-trip-grade-
 6-salida-pedagogica-grado-6/
SUMMARY:Educational field trip grade 6 / Salida pedagógica grado 6
DESCRIPTION:
CATEGORIES:Elementary
END:VEVENT
BEGIN:VTIMEZONE
TZID:America/Bogota
X-LIC-LOCATION:America/Bogota
BEGIN:STANDARD
DTSTART:20231020T080000
TZOFFSETFROM:-0500
TZOFFSETTO:-0500
TZNAME:-05
END:STANDARD
END:VTIMEZONE
END:VCALENDAR