BEGIN:VCALENDAR
VERSION:2.0
PRODID:-//wp-events-plugin.com//7.2.3.1//EN
BEGIN:VEVENT
UID:124@gimnasioingles.edu.co
DTSTART;TZID=America/Bogota;VALUE=DATE:20241128
DTEND;TZID=America/Bogota;VALUE=DATE:20241129
DTSTAMP:20241016T175623Z
URL:https://www.gimnasioingles.edu.co/events/early-dismissal-salida-antici
 pada/
SUMMARY:Early dismissal / Salida anticipada
DESCRIPTION:
CATEGORIES:General
END:VEVENT
BEGIN:VTIMEZONE
TZID:America/Bogota
X-LIC-LOCATION:America/Bogota
BEGIN:STANDARD
DTSTART:20231129T000000
TZOFFSETFROM:-0500
TZOFFSETTO:-0500
TZNAME:-05
END:STANDARD
END:VTIMEZONE
END:VCALENDAR