BEGIN:VCALENDAR
VERSION:2.0
PRODID:-//wp-events-plugin.com//7.2.3.1//EN
BEGIN:VEVENT
UID:119@gimnasioingles.edu.co
DTSTART;TZID=America/Bogota;VALUE=DATE:20241122
DTEND;TZID=America/Bogota;VALUE=DATE:20241123
DTSTAMP:20241016T173654Z
URL:https://www.gimnasioingles.edu.co/events/dress-down-day-dia-de-vestir-
 informal-3/
SUMMARY:Dress Down Day / Día de vestir informal
DESCRIPTION:
CATEGORIES:General
END:VEVENT
BEGIN:VTIMEZONE
TZID:America/Bogota
X-LIC-LOCATION:America/Bogota
BEGIN:STANDARD
DTSTART:20231123T000000
TZOFFSETFROM:-0500
TZOFFSETTO:-0500
TZNAME:-05
END:STANDARD
END:VTIMEZONE
END:VCALENDAR