BEGIN:VCALENDAR
VERSION:2.0
PRODID:-//wp-events-plugin.com//7.2.3.1//EN
BEGIN:VEVENT
UID:131@gimnasioingles.edu.co
DTSTART;TZID=America/Bogota:20241213T080000
DTEND;TZID=America/Bogota:20241213T120000
DTSTAMP:20241119T143701Z
URL:https://www.gimnasioingles.edu.co/events/delivery-of-ib-diplomas-class
 -of-2024-entrega-de-diplomas-ib-clase-2024/
SUMMARY:Delivery of IB diplomas Class of 2024 / Entrega de diplomas IB Clas
 e 2024
DESCRIPTION:
CATEGORIES:Secondary
END:VEVENT
BEGIN:VTIMEZONE
TZID:America/Bogota
X-LIC-LOCATION:America/Bogota
BEGIN:STANDARD
DTSTART:20231214T080000
TZOFFSETFROM:-0500
TZOFFSETTO:-0500
TZNAME:-05
END:STANDARD
END:VTIMEZONE
END:VCALENDAR