BEGIN:VCALENDAR
VERSION:2.0
PRODID:-//wp-events-plugin.com//7.2.3.1//EN
BEGIN:VEVENT
UID:104@gimnasioingles.edu.co
DTSTART;TZID=America/Bogota;VALUE=DATE:20241102
DTEND;TZID=America/Bogota;VALUE=DATE:20241105
DTSTAMP:20241015T201907Z
URL:https://www.gimnasioingles.edu.co/events/country-football-world-cup-in
 -pereira-mundialito-de-futbol-campestre-en-pereira/
SUMMARY:Country football world cup in Pereira - Mundialito de fútbol campe
 stre en Pereira
DESCRIPTION:
CATEGORIES:General
END:VEVENT
BEGIN:VTIMEZONE
TZID:America/Bogota
X-LIC-LOCATION:America/Bogota
BEGIN:STANDARD
DTSTART:20231103T000000
TZOFFSETFROM:-0500
TZOFFSETTO:-0500
TZNAME:-05
END:STANDARD
END:VTIMEZONE
END:VCALENDAR