BEGIN:VCALENDAR
VERSION:2.0
PRODID:-//wp-events-plugin.com//7.2.3.1//EN
BEGIN:VEVENT
UID:26@gimnasioingles.edu.co
DTSTART;TZID=America/Bogota:20241213T070000
DTEND;TZID=America/Bogota:20241213T143000
DTSTAMP:20240902T211957Z
URL:https://www.gimnasioingles.edu.co/events/conference-day-holidays-begin
 -entrega-de-reportes-comienzan-las-vacaciones/
SUMMARY:Conference Day - Holidays begin / Entrega de reportes - comienzan l
 as vacaciones
DESCRIPTION:
CATEGORIES:General
END:VEVENT
BEGIN:VTIMEZONE
TZID:America/Bogota
X-LIC-LOCATION:America/Bogota
BEGIN:STANDARD
DTSTART:20231214T070000
TZOFFSETFROM:-0500
TZOFFSETTO:-0500
TZNAME:-05
END:STANDARD
END:VTIMEZONE
END:VCALENDAR