BEGIN:VCALENDAR
VERSION:2.0
PRODID:-//wp-events-plugin.com//7.2.3.1//EN
BEGIN:VEVENT
UID:128@gimnasioingles.edu.co
DTSTART;TZID=America/Bogota:20241205T033000
DTEND;TZID=America/Bogota:20241205T053000
DTSTAMP:20241119T142714Z
URL:https://www.gimnasioingles.edu.co/events/closing-of-extracurricular-ar
 t-and-music-clausura-extracurriculares-arte-y-musica/
SUMMARY:Closing of extracurricular art and music / Clausura extracurricular
 es arte y música
DESCRIPTION:
CATEGORIES:General
END:VEVENT
BEGIN:VTIMEZONE
TZID:America/Bogota
X-LIC-LOCATION:America/Bogota
BEGIN:STANDARD
DTSTART:20231206T033000
TZOFFSETFROM:-0500
TZOFFSETTO:-0500
TZNAME:-05
END:STANDARD
END:VTIMEZONE
END:VCALENDAR