BEGIN:VCALENDAR
VERSION:2.0
PRODID:-//wp-events-plugin.com//7.2.3.1//EN
BEGIN:VEVENT
UID:129@gimnasioingles.edu.co
DTSTART;TZID=America/Bogota:20241206T070000
DTEND;TZID=America/Bogota:20241206T143000
DTSTAMP:20241119T144147Z
URL:https://www.gimnasioingles.edu.co/events/cierre-de-campana-magic-of-ch
 ristmas-magic-of-christmas-campaign-closing/
SUMMARY:Magic of Christmas campaign closing / Cierre de campaña magic of c
 hristmas
DESCRIPTION:
CATEGORIES:General
END:VEVENT
BEGIN:VTIMEZONE
TZID:America/Bogota
X-LIC-LOCATION:America/Bogota
BEGIN:STANDARD
DTSTART:20231207T070000
TZOFFSETFROM:-0500
TZOFFSETTO:-0500
TZNAME:-05
END:STANDARD
END:VTIMEZONE
END:VCALENDAR