BEGIN:VCALENDAR
VERSION:2.0
PRODID:-//wp-events-plugin.com//7.2.3.1//EN
BEGIN:VEVENT
UID:145@gimnasioingles.edu.co
DTSTART;TZID=America/Bogota;VALUE=DATE:20250208
DTEND;TZID=America/Bogota;VALUE=DATE:20250209
DTSTAMP:20250116T133150Z
URL:https://www.gimnasioingles.edu.co/events/cali-band-festival-8th-9th-fe
 stival-de-bandas-de-cali-8-9/
SUMMARY:Cali Band Festival 8th - 9th / Festival de Bandas de Cali 8° - 9°
DESCRIPTION:
CATEGORIES:Elementary
END:VEVENT
BEGIN:VTIMEZONE
TZID:America/Bogota
X-LIC-LOCATION:America/Bogota
BEGIN:STANDARD
DTSTART:20240209T000000
TZOFFSETFROM:-0500
TZOFFSETTO:-0500
TZNAME:-05
END:STANDARD
END:VTIMEZONE
END:VCALENDAR