BEGIN:VCALENDAR
VERSION:2.0
PRODID:-//wp-events-plugin.com//7.2.3.1//EN
BEGIN:VEVENT
UID:72@gimnasioingles.edu.co
DTSTART;TZID=America/Bogota;VALUE=DATE:20241118
DTEND;TZID=America/Bogota;VALUE=DATE:20241124
DTSTAMP:20240903T175428Z
URL:https://www.gimnasioingles.edu.co/events/binational-games-in-medellin-
 juegos-binacionales-en-medellin/
SUMMARY:Binational Games in Columbus School (Medellín) / Juegos binacional
 es en Columbus School (Medellín)
DESCRIPTION:
CATEGORIES:Sports
END:VEVENT
BEGIN:VTIMEZONE
TZID:America/Bogota
X-LIC-LOCATION:America/Bogota
BEGIN:STANDARD
DTSTART:20231119T000000
TZOFFSETFROM:-0500
TZOFFSETTO:-0500
TZNAME:-05
END:STANDARD
END:VTIMEZONE
END:VCALENDAR