BEGIN:VCALENDAR
VERSION:2.0
PRODID:-//wp-events-plugin.com//7.2.3.1//EN
BEGIN:VEVENT
UID:116@gimnasioingles.edu.co
DTSTART;TZID=America/Bogota:20241106T080000
DTEND;TZID=America/Bogota:20241108T120000
DTSTAMP:20241016T172310Z
URL:https://www.gimnasioingles.edu.co/events/art-trip-grades-12th-salida-d
 e-arte-grado-12/
SUMMARY:Art Trip grades 12th / Salida de arte grado 12
DESCRIPTION:
CATEGORIES:Secondary
END:VEVENT
BEGIN:VTIMEZONE
TZID:America/Bogota
X-LIC-LOCATION:America/Bogota
BEGIN:STANDARD
DTSTART:20231107T080000
TZOFFSETFROM:-0500
TZOFFSETTO:-0500
TZNAME:-05
END:STANDARD
END:VTIMEZONE
END:VCALENDAR