BEGIN:VCALENDAR
VERSION:2.0
PRODID:-//wp-events-plugin.com//7.2.3.1//EN
BEGIN:VEVENT
UID:71@gimnasioingles.edu.co
DTSTART;TZID=America/Bogota:20241116T000000
DTEND;TZID=America/Bogota:20241116T000000
DTSTAMP:20240903T201035Z
URL:https://www.gimnasioingles.edu.co/events/accas-festival-elementary-gi-
 school-festival-accas-primaria-colegio-gi/
SUMMARY:ACCAS Festival Elementary GI School / Festival ACCAS Primaria GI Sc
 hool
DESCRIPTION:
CATEGORIES:Sports
END:VEVENT
BEGIN:VTIMEZONE
TZID:America/Bogota
X-LIC-LOCATION:America/Bogota
BEGIN:STANDARD
DTSTART:20231117T000000
TZOFFSETFROM:-0500
TZOFFSETTO:-0500
TZNAME:-05
END:STANDARD
END:VTIMEZONE
END:VCALENDAR