BEGIN:VCALENDAR
VERSION:2.0
PRODID:-//wp-events-plugin.com//7.2.3.1//EN
BEGIN:VEVENT
UID:117@gimnasioingles.edu.co
DTSTART;TZID=America/Bogota;VALUE=DATE:20241108
DTEND;TZID=America/Bogota;VALUE=DATE:20241110
DTSTAMP:20241016T172640Z
URL:https://www.gimnasioingles.edu.co/events/aacbi-gymnastics-cali-accbi-g
 imnasia-cali/
SUMMARY:AACBI Gymnastics - Cali / ACCBI Gimnasia - Cali
DESCRIPTION:
CATEGORIES:Sports
END:VEVENT
BEGIN:VTIMEZONE
TZID:America/Bogota
X-LIC-LOCATION:America/Bogota
BEGIN:STANDARD
DTSTART:20231109T000000
TZOFFSETFROM:-0500
TZOFFSETTO:-0500
TZNAME:-05
END:STANDARD
END:VTIMEZONE
END:VCALENDAR