BEGIN:VCALENDAR
VERSION:2.0
PRODID:-//wp-events-plugin.com//7.2.3.1//EN
BEGIN:VEVENT
UID:77@gimnasioingles.edu.co
DTSTART;TZID=America/Bogota;VALUE=DATE:20250213
DTEND;TZID=America/Bogota;VALUE=DATE:20250216
DTSTAMP:20240903T180633Z
URL:https://www.gimnasioingles.edu.co/events/aacbi-elementary-cup-in-cali-
 copa-aacbi-primaria-en-cali/
SUMMARY:AACBI Youth Cup in Colegio Colombo Británico (Cali) / Copa AACBI j
 uvenil en Colegio Colombo Británico (Cali)
DESCRIPTION:
CATEGORIES:Sports
END:VEVENT
BEGIN:VTIMEZONE
TZID:America/Bogota
X-LIC-LOCATION:America/Bogota
BEGIN:STANDARD
DTSTART:20240214T000000
TZOFFSETFROM:-0500
TZOFFSETTO:-0500
TZNAME:-05
END:STANDARD
END:VTIMEZONE
END:VCALENDAR