BEGIN:VCALENDAR
VERSION:2.0
PRODID:-//wp-events-plugin.com//7.2.3.1//EN
BEGIN:VEVENT
UID:93@gimnasioingles.edu.co
DTSTART;TZID=America/Bogota:20241015T073000
DTEND;TZID=America/Bogota:20241015T093000
DTSTAMP:20240910T194438Z
URL:https://www.gimnasioingles.edu.co/events/6th-grade-parents-workshop-ed
 ucational-field-trip-taller-de-padres-grado-6-salida-pedagogica/
SUMMARY:6th grade parents' workshop: educational field trip / Taller de pad
 res grado 6 "salida pedagógica"
DESCRIPTION:
CATEGORIES:Elementary
END:VEVENT
BEGIN:VTIMEZONE
TZID:America/Bogota
X-LIC-LOCATION:America/Bogota
BEGIN:STANDARD
DTSTART:20231016T073000
TZOFFSETFROM:-0500
TZOFFSETTO:-0500
TZNAME:-05
END:STANDARD
END:VTIMEZONE
END:VCALENDAR