BEGIN:VCALENDAR
VERSION:2.0
PRODID:-//wp-events-plugin.com//7.2.3.1//EN
BEGIN:VEVENT
UID:92@gimnasioingles.edu.co
DTSTART;TZID=America/Bogota:20241002T073000
DTEND;TZID=America/Bogota:20241002T093000
DTSTAMP:20240910T195407Z
URL:https://www.gimnasioingles.edu.co/events/2th-grade-parents-workshop-ta
 ller-de-padres-grado-12/
SUMMARY:12th grade parents' workshop / Taller de padres grado 12
DESCRIPTION:
CATEGORIES:Secondary
END:VEVENT
BEGIN:VTIMEZONE
TZID:America/Bogota
X-LIC-LOCATION:America/Bogota
BEGIN:STANDARD
DTSTART:20231003T073000
TZOFFSETFROM:-0500
TZOFFSETTO:-0500
TZNAME:-05
END:STANDARD
END:VTIMEZONE
END:VCALENDAR