BEGIN:VCALENDAR
VERSION:2.0
PRODID:-//wp-events-plugin.com//7.2.3.1//EN
BEGIN:VEVENT
UID:84@gimnasioingles.edu.co
DTSTART;TZID=America/Bogota;VALUE=DATE:20241003
DTEND;TZID=America/Bogota;VALUE=DATE:20241004
DTSTAMP:20240910T200651Z
URL:https://www.gimnasioingles.edu.co/events/12th-grade-thesis-presentatio
 ns-presentacion-de-monografias-grado-12/
SUMMARY:Presentation of Thesis Proposals\, 12th Grade / Presentación de an
 teproyectos de monografías grado 12
DESCRIPTION:
CATEGORIES:Secondary
END:VEVENT
BEGIN:VTIMEZONE
TZID:America/Bogota
X-LIC-LOCATION:America/Bogota
BEGIN:STANDARD
DTSTART:20231004T000000
TZOFFSETFROM:-0500
TZOFFSETTO:-0500
TZNAME:-05
END:STANDARD
END:VTIMEZONE
END:VCALENDAR