BEGIN:VCALENDAR
VERSION:2.0
PRODID:-//wp-events-plugin.com//7.2.3.1//EN
BEGIN:VEVENT
UID:95@gimnasioingles.edu.co
DTSTART;TZID=America/Bogota:20241023T073000
DTEND;TZID=America/Bogota:20241023T093000
DTSTAMP:20240910T195853Z
URL:https://www.gimnasioingles.edu.co/events/10th-grade-parents-workshop-t
 aller-de-padres-grado-10/
SUMMARY:10th grade parents' workshop / Taller de padres grado 10
DESCRIPTION:
CATEGORIES:Secondary
END:VEVENT
BEGIN:VTIMEZONE
TZID:America/Bogota
X-LIC-LOCATION:America/Bogota
BEGIN:STANDARD
DTSTART:20231024T073000
TZOFFSETFROM:-0500
TZOFFSETTO:-0500
TZNAME:-05
END:STANDARD
END:VTIMEZONE
END:VCALENDAR